BEGIN:VCALENDAR
VERSION:2.0
PRODID:-//wp-events-plugin.com//6.6.1//EN
TZID:Europe/Paris
X-WR-TIMEZONE:Europe/Paris
BEGIN:VEVENT
UID:2083@epicerie-lasource.org
DTSTART;TZID=Europe/Paris:20251024T140000
DTEND;TZID=Europe/Paris:20251024T170000
DTSTAMP:20251018T132807Z
URL:https://www.epicerie-lasource.org/magasin/events/atelier-informatique-
 et-logiciel-libre-samedi-apres-midi/
SUMMARY:Atelier informatique et logiciel libre samedi après midi
DESCRIPTION:Atelier Informatique où l'on parle de tout\, on répare des po
 stes\, on échange sur les bonnes pratiques et sur les astuces.
CATEGORIES:Atelier
LOCATION:Local Epicerie 'La Source'\, 7 Rue Abbé Choquet\, Dunkerque\, 591
 40\, France
X-APPLE-STRUCTURED-LOCATION;VALUE=URI;X-ADDRESS=7 Rue Abbé Choquet\, Dunke
 rque\, 59140\, France;X-APPLE-RADIUS=100;X-TITLE=Local Epicerie 'La Source
 ':geo:0,0
END:VEVENT
BEGIN:VTIMEZONE
TZID:Europe/Paris
X-LIC-LOCATION:Europe/Paris
BEGIN:DAYLIGHT
DTSTART:20250330T030000
TZOFFSETFROM:+0100
TZOFFSETTO:+0200
TZNAME:CEST
END:DAYLIGHT
END:VTIMEZONE
END:VCALENDAR